Workbook

Sheet Cost Guidance
A1: Indirect vs Direct Program/Admin Guidance
A4: Direct Costs: | B4: (1) | C4: Costs that can be identified specifically with a particular final cost objective
A5: (2 CFR 200.413) | C5: (i.e. Federal award or other funded activity) or that can be directly assigned
C6: to such activities relatively easily with a high degree of accuracy.
B7: (2) | C7: Typical costs charged directly to an award are the compensation of
C8: employees who work on the award, their related fringe benefit costs, the
C9: costs of materials and other items of expense incurred for the award.
B10: (3) | C10: If directly related to an award, certain costs that otherwise would be
C11: treated as indirect costs may also include extraordinary utility consumption,
C12: the cost of materials supplied from stock or services rendered by
C13: specialized facilities or other institutional service operations.
B14: (4) | C14: Salaries of administrative and clerical staff should normally be treated as
C15: indirect costs. Direct charging of these costs may be appropriate only if
C16: ALL of the following conditions are met: (a) These services are integral to
C17: project; (b) Individuals involved can be specifically identified with the
C18: project; (c) Costs are explicitly included in the budget or have the prior
C19: written approval of awarding agency; (d) Costs are not also recovered as
C20: indirect costs/not included in the indirect cost rate.
A22: Indirect Costs: | B22: (1) | C22: Indirect Costs must be classified within two broad categories: Facilities
A23: (2 CFR 200.414) | C23: and Administration. Facilities is defined as depreciation, operations and
C24: maintenace expenses. Administration is defined as general administration
C25: and general expenses such as the director's office, accounting, personnel,
C26: and all other types of expenditures not list specifically under Facilities.
B27: (2) | C27: Identification with an award rather than the nature of goods and services
C28: involved is the determining factor in distinguishing direct from indirect.
B29: (3) | C29: Typical examples of indirect costs may include depreciation, costs of
C30: operating and maintaining facilities, and general administration and general
C31: expenses, such as the salaries and expenses of executive officers,
C32: personnel administration and accounting.
A33: Appendix IV to Part 200 CFR
B34: (1) | C34: Indirect costs are those that have been incurred for common or joint
C35: objectives and cannot be readily identified with a particular cost objective.
B36: (2) | C36: A cost may not be allocated to an award as an indirect cost if any other
C37: cost incurred for the same purpose has been assigned to an award as
C38: a direct cost.
B39: (3) | C39: If organization has only one major function or all major functions benefit
C40: equally from its indirect costs, the allocation of indirect costs and the
C41: computation of an indirect cost rate may be through simplified allocation
C42: procedures (section B.2. of Appendix IV)
A44: Administrative Costs:
...

Sheet Budget
A1: Organization
A2: Budget Summary
B4: Admin | C4: Program | D4: Work Experience | E4: Training | F4: Total
A6: Provider Expenses:
A7: Salaries & Wages (see tab)(1) | B7: =+'Salaries & Wages'!F72 -> 0 | C7: =+'Salaries & Wages'!F73 -> 0 | D7: =+'Salaries & Wages'!F74 -> 0 | E7: ='Salaries & Wages'!F75 -> 0 | F7: =SUM(B7:E7) -> 0
A8: Fringe Benefits (see tab)(2) | B8: =+'Fringe Benefits'!E76 -> 0 | C8: =+'Fringe Benefits'!E77 -> 0 | D8: =+'Fringe Benefits'!E78 -> 0 | E8: =+'Fringe Benefits'!E79 -> 0 | F8: =SUM(B8:E8) -> 0
A9: Other Program Costs (see tab)(3) | C9: =+'Other Program Costs'!B22 -> 0 | D9: =+'Other Program Costs'!C22 -> 0 | E9: =+'Other Program Costs'!D22 -> 0 | F9: =SUM(B9:E9) -> 0
A10: Direct Admin Costs (see tab)(4) | B10: =+'Direct Admin Costs'!B18 -> 0 | F10: =SUM(B10:E10) -> 0
A11: Indirect Costs (see tab)(5) | B11: =+'Indirect Costs'!E24 -> 0 | C11: =+'Indirect Costs'!F24 -> 0 | F11: =SUM(B11:E11) -> 0
A12: Total Provider Expenses | B12: =SUM(B7:B11) -> 0 | C12: =SUM(C7:C11) -> 0 | D12: =SUM(D7:D11) -> 0 | E12: =SUM(E7:E11) -> 0 | F12: =SUM(F7:F11) -> 0
A14: Participant Expenses: (6)
A15: Wages | F15: =SUM(B15:E15) -> 0
A16: Stipends | F16: =SUM(B16:E16) -> 0
A17: Transportation | F17: =SUM(B17:E17) -> 0
A18: Incentives | F18: =SUM(B18:E18) -> 0
A19: Total Participant Expenses | B19: =SUM(B15:B18) -> 0 | C19: =SUM(C15:C18) -> 0 | D19: =SUM(D15:D18) -> 0 | E19: =SUM(E15:E18) -> 0 | F19: =SUM(F15:F18) -> 0
A21: Other Expenses (itemized on "Other" sheet) (7) | B21: =+Other!B22 -> 0 | C21: =+Other!C22 -> 0 | D21: =+Other!D22 -> 0 | E21: =+Other!E22 -> 0 | F21: =SUM(B21:E21) -> 0
A23: TOTAL | B23: =+B21+B19+B12 -> 0 | C23: =+C21+C19+C12 -> 0 | D23: =+D21+D19+D12 -> 0 | E23: =+E21+E19+E12 -> 0 | F23: =+F21+F19+F12 -> 0
A25: 10% Admin Cost Check | B25: =+B23/F23 -> #DIV/0!

Sheet Salaries & Wages
A1: =+Budget!A1 -> Organization
A2: Staffing Budget
B4: DROPDOWN LIST
A5: Position Title | B5: Type of Expense | C5: Annual Salary/Wages | D5: % Charged to This Program | E5: Full Time or Part Time position within your organization? | F5: Budget Amount
F6: =+C6*D6 -> 0
F7: =+C7*D7 -> 0
F8: =+C8*D8 -> 0
F9: =+C9*D9 -> 0
F10: =+C10*D10 -> 0
F11: =+C11*D11 -> 0
F12: =+C12*D12 -> 0
F13: =+C13*D13 -> 0
F14: =+C14*D14 -> 0
F15: =+C15*D15 -> 0
F16: =+C16*D16 -> 0
F17: =+C17*D17 -> 0
... F68: =+C68*D68 -> 0
A69: Total | C69: =SUM(C6:C68) -> 0 | F69: =SUM(F6:F68) -> 0
B72: Admin | C72: =SUMIF($B$6:$B$68,B72,$C$6:$C$68) -> 0 | E72: Full time | F72: =SUMIF($B$6:$B$68,B72,$F$6:$F$68) -> 0
B73: Program | C73: =SUMIF($B$6:$B$68,B73,$C$6:$C$68) -> 0 | E73: Part time | F73: =SUMIF($B$6:$B$68,B73,$F$6:$F$68) -> 0
B74: Work Experience | C74: =SUMIF($B$6:$B$68,B74,$C$6:$C$68) -> 0 | F74: =SUMIF($B$6:$B$68,B74,$F$6:$F$68) -> 0
B75: Training | C75: =SUMIF($B$6:$B$68,B75,$C$6:$C$68) -> 0 | F75: =SUMIF($B$6:$B$68,B75,$F$6:$F$68) -> 0
A76: TOTAL | C76: =SUM(C72:C75) -> 0 | F76: =SUM(F72:F75) -> 0

Sheet Fringe Benefits
A1: =+Budget!A1 -> Organization | C1: If estimate flat % used to calculate fringe benefits:
A2: Fringe Benefits Budget | C2: Payroll Taxes | D2: 0
C3: Worker's Comp | D3: 0
C4: Unemployment Comp | D4: 0
C5: Health, Dental, Vision Ins | D5: 0
C6: Retirement | D6: 0
C7: Other (list) | D7: 0
D8: =SUM(D2:D7) -> 0
B9: DROPDOWN LIST
A10: Position Title | B10: Type of Expense | C10: Fringe Benefit | D10: % Charged to This Program | E10: Budget Amount
A11: =+'Salaries & Wages'!A6 -> 0 | B11: =+'Salaries & Wages'!B6 -> 0 | D11: =+'Salaries & Wages'!D6 -> 0 | E11: =+C11*D11 -> 0
A12: =+'Salaries & Wages'!A7 -> 0 | B12: =+'Salaries & Wages'!B7 -> 0 | D12: =+'Salaries & Wages'!D7 -> 0 | E12: =+C12*D12 -> 0
A13: =+'Salaries & Wages'!A8 -> 0 | B13: =+'Salaries & Wages'!B8 -> 0 | D13: =+'Salaries & Wages'!D8 -> 0 | E13: =+C13*D13 -> 0
A14: =+'Salaries & Wages'!A9 -> 0 | B14: =+'Salaries & Wages'!B9 -> 0 | D14: =+'Salaries & Wages'!D9 -> 0 | E14: =+C14*D14 -> 0
A15: =+'Salaries & Wages'!A10 -> 0 | B15: =+'Salaries & Wages'!B10 -> 0 | D15: =+'Salaries & Wages'!D10 -> 0 | E15: =+C15*D15 -> 0
A16: =+'Salaries & Wages'!A11 -> 0 | B16: =+'Salaries & Wages'!B11 -> 0 | D16: =+'Salaries & Wages'!D11 -> 0 | E16: =+C16*D16 -> 0
A17: =+'Salaries & Wages'!A12 -> 0 | B17: =+'Salaries & Wages'!B12 -> 0 | D17: =+'Salaries & Wages'!D12 -> 0 | E17: =+C17*D17 -> 0
A18: =+'Salaries & Wages'!A13 -> 0 | B18: =+'Salaries & Wages'!B13 -> 0 | D18: =+'Salaries & Wages'!D13 -> 0 | E18: =+C18*D18 -> 0
A19: =+'Salaries & Wages'!A14 -> 0 | B19: =+'Salaries & Wages'!B14 -> 0 | D19: =+'Salaries & Wages'!D14 -> 0 | E19: =+C19*D19 -> 0
A20: =+'Salaries & Wages'!A15 -> 0 | B20: =+'Salaries & Wages'!B15 -> 0 | D20: =+'Salaries & Wages'!D15 -> 0 | E20: =+C20*D20 -> 0
A21: =+'Salaries & Wages'!A16 -> 0 | B21: =+'Salaries & Wages'!B16 -> 0 | D21: =+'Salaries & Wages'!D16 -> 0 | E21: =+C21*D21 -> 0
A22: =+'Salaries & Wages'!A17 -> 0 | B22: =+'Salaries & Wages'!B17 -> 0 | D22: =+'Salaries & Wages'!D17 -> 0 | E22: =+C22*D22 -> 0
... A73: =+'Salaries & Wages'!A68 -> 0 | B73: =+'Salaries & Wages'!B68 -> 0 | D73: =+'Salaries & Wages'!D68 -> 0 | E73: =+C73*D73 -> 0
A74: Total | C74: =SUM(C11:C73) -> 0 | E74: =SUM(E11:E73) -> 0
B76: Admin | C76: =SUMIF($B$11:$B$73,B76,$C$11:$C$73) -> 0 | E76: =SUMIF($B$11:$B$73,B76,$E$11:$E$73) -> 0
B77: Program | C77: =SUMIF($B$11:$B$73,B77,$C$11:$C$73) -> 0 | E77: =SUMIF($B$11:$B$73,B77,$E$11:$E$73) -> 0
B78: Work Experience | C78: =SUMIF($B$11:$B$73,B78,$C$11:$C$73) -> 0 | E78: =SUMIF($B$11:$B$73,B78,$E$11:$E$73) -> 0
B79: Training | C79: =SUMIF($B$11:$B$73,B79,$C$11:$C$73) -> 0 | E79: =SUMIF($B$11:$B$73,B79,$E$11:$E$73) -> 0
A80: TOTAL | C80: =SUM(C76:C79) -> 0 | E80: =SUM(E76:E79) -> 0

Sheet Other Program Costs
A1: =+Budget!A1 -> Organization
A2: Program Costs
A4: Type of Expense | B4: Program | C4: Work Experience | D4: Training | E4: Budget Amount
A5: Communication/Outreach | E5: =SUM(B5:D5) -> 0
A6: Equipment | E6: =SUM(B6:D6) -> 0
A7: Legal | E7: =SUM(B7:D7) -> 0
A8: Materials and Supplies | E8: =SUM(B8:D8) -> 0
A9: Meeting Expense | E9: =SUM(B9:D9) -> 0
A10: Memberships | E10: =SUM(B10:D10) -> 0
A11: Technology | E11: =SUM(B11:D11) -> 0
A12: Telephone | E12: =SUM(B12:D12) -> 0
A13: Travel | E13: =SUM(B13:D13) -> 0
A14: On-The-Job Training (OJT) | E14: =SUM(B14:D14) -> 0
A15: Customized Job Training (CJT) | E15: =SUM(B15:D15) -> 0
A16: Incumbent Worker Training | E16: =SUM(B16:D16) -> 0
E17: =SUM(B17:D17) -> 0
E18: =SUM(B18:D18) -> 0
E19: =SUM(B19:D19) -> 0
E20: =SUM(B20:D20) -> 0
E21: =SUM(B21:D21) -> 0
A22: TOTAL | B22: =SUM(B5:B21) -> 0 | C22: =SUM(C5:C21) -> 0 | D22: =SUM(D5:D21) -> 0 | E22: =SUM(E5:E21) -> 0

Sheet Direct Admin Costs
A1: =+Budget!A1 -> Organization
A2: Direct Admin Costs
A4: Type of Expense | B4: Budget Amount
B8: 0
B9: 0
B10: 0
B11: 0
B12: 0
B13: 0
B14: 0
B15: 0
B16: 0
B17: 0
A18: TOTAL | B18: =SUM(B5:B17) -> 0

Sheet Indirect Costs
A1: =+'Direct Admin Costs'!A1 -> Organization
A2: Indirect Cost Calculation
D3: Indirect Cost Rate
A4: Indirect Cost Plan | D4: Indirect Cost Pool (Maximum $) | E4: =(Budget!F23-Budget!F11-Other!F5-Budget!F19)*E3 -> 0
D5: Indirect Cost Allocated to Grant | F5: =IF(E5>E4,"ERROR","OK") -> OK
D6: Allocation = 100% | G6: =IF(SUM(E6+F6)=1,"OK","ERROR") -> ERROR
A7: Type of Indirect Expense | B7: Total Expense | C7: % of Total | D7: Indirect Cost Pool | E7: Admin | F7: Program | G7: Budget Amount
C8: =IFERROR(SUM(B8/$B$24),0) -> 0 | D8: =ROUND(SUM($E$5*C8),2) -> 0 | E8: =SUM(D8*$E$6) -> 0 | F8: =SUM(D8*$F$6) -> 0 | G8: =+E8+F8 -> 0
C9: =IFERROR(SUM(B9/$B$24),0) -> 0 | D9: =ROUND(SUM($E$5*C9),2) -> 0 | E9: =SUM(D9*$E$6) -> 0 | F9: =SUM(D9*$F$6) -> 0 | G9: =+E9+F9 -> 0
C10: =IFERROR(SUM(B10/$B$24),0) -> 0 | D10: =ROUND(SUM($E$5*C10),2) -> 0 | E10: =SUM(D10*$E$6) -> 0 | F10: =SUM(D10*$F$6) -> 0 | G10: =+E10+F10 -> 0
C11: =IFERROR(SUM(B11/$B$24),0) -> 0 | D11: =ROUND(SUM($E$5*C11),2) -> 0 | E11: =SUM(D11*$E$6) -> 0 | F11: =SUM(D11*$F$6) -> 0 | G11: =+E11+F11 -> 0
C12: =IFERROR(SUM(B12/$B$24),0) -> 0 | D12: =ROUND(SUM($E$5*C12),2) -> 0 | E12: =SUM(D12*$E$6) -> 0 | F12: =SUM(D12*$F$6) -> 0 | G12: =+E12+F12 -> 0
C13: =IFERROR(SUM(B13/$B$24),0) -> 0 | D13: =ROUND(SUM($E$5*C13),2) -> 0 | E13: =SUM(D13*$E$6) -> 0 | F13: =SUM(D13*$F$6) -> 0 | G13: =+E13+F13 -> 0
C14: =IFERROR(SUM(B14/$B$24),0) -> 0 | D14: =ROUND(SUM($E$5*C14),2) -> 0 | E14: =SUM(D14*$E$6) -> 0 | F14: =SUM(D14*$F$6) -> 0 | G14: =+E14+F14 -> 0
C15: =IFERROR(SUM(B15/$B$24),0) -> 0 | D15: =ROUND(SUM($E$5*C15),2) -> 0 | E15: =SUM(D15*$E$6) -> 0 | F15: =SUM(D15*$F$6) -> 0 | G15: =+E15+F15 -> 0
C16: =IFERROR(SUM(B16/$B$24),0) -> 0 | D16: =ROUND(SUM($E$5*C16),2) -> 0 | E16: =SUM(D16*$E$6) -> 0 | F16: =SUM(D16*$F$6) -> 0 | G16: =+E16+F16 -> 0
C17: =IFERROR(SUM(B17/$B$24),0) -> 0 | D17: =ROUND(SUM($E$5*C17),2) -> 0 | E17: =SUM(D17*$E$6) -> 0 | F17: =SUM(D17*$F$6) -> 0 | G17: =+E17+F17 -> 0
C18: =IFERROR(SUM(B18/$B$24),0) -> 0 | D18: =ROUND(SUM($E$5*C18),2) -> 0 | E18: =SUM(D18*$E$6) -> 0 | F18: =SUM(D18*$F$6) -> 0 | G18: =+E18+F18 -> 0
C19: =IFERROR(SUM(B19/$B$24),0) -> 0 | D19: =ROUND(SUM($E$5*C19),2) -> 0 | E19: =SUM(D19*$E$6) -> 0 | F19: =SUM(D19*$F$6) -> 0 | G19: =+E19+F19 -> 0
... C23: =IFERROR(SUM(B23/$B$24),0) -> 0 | D23: =ROUND(SUM($E$5*C23),2) -> 0 | E23: =SUM(D23*$E$6) -> 0 | F23: =SUM(D23*$F$6) -> 0 | G23: =+E23+F23 -> 0
A24: Total | B24: =SUM(B8:B23) -> 0 | C24: =SUM(C8:C23) -> 0 | D24: =SUM(D8:D23) -> 0 | E24: =SUM(E8:E23) -> 0 | F24: =SUM(F8:F23) -> 0 | G24: =SUM(G8:G23) -> 0
A32: 10% DeMinimus Rate
A33: ICR Agreement
A34: ICR/CAP Agreement Submitted to P4W

Sheet Other
A1: =+Budget!A1 -> Organization
A2: Other Expenses
A4: Type of Expense | B4: Admin | C4: Program | D4: Work Experience | E4: Training | F4: Budget Amount
A5: Supportive Services | F5: =SUM(A5:E5) -> 0
F6: =SUM(A6:E6) -> 0
F7: =SUM(A7:E7) -> 0
F8: =SUM(A8:E8) -> 0
F9: =SUM(A9:E9) -> 0
F10: =SUM(A10:E10) -> 0
F11: =SUM(A11:E11) -> 0
F12: =SUM(A12:E12) -> 0
F13: =SUM(A13:E13) -> 0
F14: =SUM(A14:E14) -> 0
F15: =SUM(A15:E15) -> 0
F16: =SUM(A16:E16) -> 0
F17: =SUM(A17:E17) -> 0
... F21: =SUM(A21:E21) -> 0
B22: =SUM(B5:B21) -> 0 | C22: =SUM(C5:C21) -> 0 | D22: =SUM(D5:D21) -> 0 | E22: =SUM(E5:E21) -> 0 | F22: =SUM(F5:F21) -> 0
